BEGIN:VCALENDAR
VERSION:2.0
PRODID:-//wp-events-plugin.com//7.2.3.1//EN
TZID:Europe/Berlin
X-WR-TIMEZONE:Europe/Berlin
BEGIN:VEVENT
UID:790@ff-rumpenheim.de
DTSTART;VALUE=DATE:20220710
DTEND;VALUE=DATE:20220711
DTSTAMP:20220613T064034Z
URL:https://ff-rumpenheim.de/events/tag-der-offenen-tuer-2022/
SUMMARY:Tag der offenen Tür 2022
DESCRIPTION:
LOCATION:Freiwillige Feuerwehr Rumpenheim\, Mainzer Ring 200\, Offenbach\, 
 Hessen\, 63075\, Deutschland
X-APPLE-STRUCTURED-LOCATION;VALUE=URI;X-ADDRESS=Mainzer Ring 200\, Offenbac
 h\, Hessen\, 63075\, Deutschland;X-APPLE-RADIUS=100;X-TITLE=Freiwillige Fe
 uerwehr Rumpenheim:geo:0,0
END:VEVENT
END:VCALENDAR